
BEGIN:VCALENDAR
VERSION:2.0
PRODID:-//eventon.com NONSGML v1.0//EN
CALSCALE:GREGORIAN
METHOD:PUBLISH
BEGIN:VEVENT
UID:69e622a57191c
DTSTAMP:20260420T125709Z
DTSTART:20260727T090000Z
DTEND:20260727T124500Z
LOCATION:Wading Pool
SUMMARY:Wading Pool
DESCRIPTION:Wading Pool\nhttps://uat.wilmettepark.org/events/wading-pool/va
 r/ri-34.l-L1
URL:https://uat.wilmettepark.org/events/wading-pool/var/ri-34.l-L1
END:VEVENT
END:VCALENDAR