
BEGIN:VCALENDAR
VERSION:2.0
PRODID:-//eventon.com NONSGML v1.0//EN
CALSCALE:GREGORIAN
METHOD:PUBLISH
BEGIN:VEVENT
UID:69e5f57d5fa4e
DTSTAMP:20260420T094429Z
DTSTART:20260730T090000Z
DTEND:20260730T124500Z
LOCATION:Wading Pool
SUMMARY:Wading Pool
DESCRIPTION:Wading Pool\nhttps://uat.wilmettepark.org/events/wading-pool/va
 r/ri-37.l-L1
URL:https://uat.wilmettepark.org/events/wading-pool/var/ri-37.l-L1
END:VEVENT
END:VCALENDAR