
BEGIN:VCALENDAR
VERSION:2.0
PRODID:-//eventon.com NONSGML v1.0//EN
CALSCALE:GREGORIAN
METHOD:PUBLISH
BEGIN:VEVENT
UID:69e731688fe28
DTSTAMP:20260421T081224Z
DTSTART:20260615T090000Z
DTEND:20260615T124500Z
LOCATION:Wading Pool
SUMMARY:Wading Pool
DESCRIPTION:Wading Pool\nhttps://uat.wilmettepark.org/events/wading-pool/va
 r/ri-4.l-L1
URL:https://uat.wilmettepark.org/events/wading-pool/var/ri-4.l-L1
END:VEVENT
END:VCALENDAR