
BEGIN:VCALENDAR
VERSION:2.0
PRODID:-//eventon.com NONSGML v1.0//EN
CALSCALE:GREGORIAN
METHOD:PUBLISH
BEGIN:VEVENT
UID:69e73be6635c4
DTSTAMP:20260421T085710Z
DTSTART:20260616T090000Z
DTEND:20260616T124500Z
LOCATION:Wading Pool
SUMMARY:Wading Pool
DESCRIPTION:Wading Pool\nhttps://uat.wilmettepark.org/events/wading-pool/va
 r/ri-5.l-L1
URL:https://uat.wilmettepark.org/events/wading-pool/var/ri-5.l-L1
END:VEVENT
END:VCALENDAR