
BEGIN:VCALENDAR
VERSION:2.0
PRODID:-//eventon.com NONSGML v1.0//EN
CALSCALE:GREGORIAN
METHOD:PUBLISH
BEGIN:VEVENT
UID:69e89ea23a504
DTSTAMP:20260422T101042Z
DTSTART:20260618T090000Z
DTEND:20260618T124500Z
LOCATION:Wading Pool
SUMMARY:Wading Pool
DESCRIPTION:Wading Pool\nhttps://uat.wilmettepark.org/events/wading-pool/va
 r/ri-7.l-L1
URL:https://uat.wilmettepark.org/events/wading-pool/var/ri-7.l-L1
END:VEVENT
END:VCALENDAR