
BEGIN:VCALENDAR
VERSION:2.0
PRODID:-//eventon.com NONSGML v1.0//EN
CALSCALE:GREGORIAN
METHOD:PUBLISH
BEGIN:VEVENT
UID:69e75cbe7a040
DTSTAMP:20260421T111718Z
DTSTART:20260617T071000Z
DTEND:20260617T081000Z
LOCATION:Diving Well
SUMMARY:Fluid Running
DESCRIPTION:Fluid Running\nhttps://uat.wilmettepark.org/events/fluid-runnin
 g/var/ri-1.l-L1
URL:https://uat.wilmettepark.org/events/fluid-running/var/ri-1.l-L1
END:VEVENT
END:VCALENDAR