
BEGIN:VCALENDAR
VERSION:2.0
PRODID:-//eventon.com NONSGML v1.0//EN
CALSCALE:GREGORIAN
METHOD:PUBLISH
BEGIN:VEVENT
UID:69e88a15a9e3f
DTSTAMP:20260422T084301Z
DTSTART:20260609T193000Z
DTEND:20260609T203000Z
LOCATION:Main Pool Lanes 1-4
SUMMARY:New Trier
DESCRIPTION:New Trier\nhttps://uat.wilmettepark.org/events/new-trier-2/
URL:https://uat.wilmettepark.org/events/new-trier-2/
END:VEVENT
END:VCALENDAR