
BEGIN:VCALENDAR
VERSION:2.0
PRODID:-//eventon.com NONSGML v1.0//EN
CALSCALE:GREGORIAN
METHOD:PUBLISH
BEGIN:VEVENT
UID:69e62f9d7af64
DTSTAMP:20260420T135229Z
DTSTART:20260630T193000Z
DTEND:20260630T203000Z
LOCATION:Main Pool Lanes 1-4
SUMMARY:New Trier
DESCRIPTION:New Trier\nhttps://uat.wilmettepark.org/events/new-trier-2/var/
 ri-12.l-L1
URL:https://uat.wilmettepark.org/events/new-trier-2/var/ri-12.l-L1
END:VEVENT
END:VCALENDAR