
BEGIN:VCALENDAR
VERSION:2.0
PRODID:-//eventon.com NONSGML v1.0//EN
CALSCALE:GREGORIAN
METHOD:PUBLISH
BEGIN:VEVENT
UID:69e8a08a7c4e9
DTSTAMP:20260422T101850Z
DTSTART:20260615T193000Z
DTEND:20260615T203000Z
LOCATION:Main Pool Lanes 1-4
SUMMARY:New Trier
DESCRIPTION:New Trier\nhttps://uat.wilmettepark.org/events/new-trier-2/var/
 ri-3.l-L1
URL:https://uat.wilmettepark.org/events/new-trier-2/var/ri-3.l-L1
END:VEVENT
END:VCALENDAR