
BEGIN:VCALENDAR
VERSION:2.0
PRODID:-//eventon.com NONSGML v1.0//EN
CALSCALE:GREGORIAN
METHOD:PUBLISH
BEGIN:VEVENT
UID:69e8a08956df9
DTSTAMP:20260422T101849Z
DTSTART:20260616T193000Z
DTEND:20260616T203000Z
LOCATION:Main Pool Lanes 1-4
SUMMARY:New Trier
DESCRIPTION:New Trier\nhttps://uat.wilmettepark.org/events/new-trier-2/var/
 ri-4.l-L1
URL:https://uat.wilmettepark.org/events/new-trier-2/var/ri-4.l-L1
END:VEVENT
END:VCALENDAR