
BEGIN:VCALENDAR
VERSION:2.0
PRODID:-//eventon.com NONSGML v1.0//EN
CALSCALE:GREGORIAN
METHOD:PUBLISH
BEGIN:VEVENT
UID:69e81b2aa6fa2
DTSTAMP:20260422T004946Z
DTSTART:20260707T130000Z
DTEND:20260707T140000Z
LOCATION:All Pool
SUMMARY:Camp Swim - All Pool
DESCRIPTION:Camp Swim - All Pool\nhttps://uat.wilmettepark.org/events/camp-
 swim-5/var/ri-20.l-L1
URL:https://uat.wilmettepark.org/events/camp-swim-5/var/ri-20.l-L1
END:VEVENT
END:VCALENDAR