
BEGIN:VCALENDAR
VERSION:2.0
PRODID:-//eventon.com NONSGML v1.0//EN
CALSCALE:GREGORIAN
METHOD:PUBLISH
BEGIN:VEVENT
UID:69e8cabadaa1c
DTSTAMP:20260422T131850Z
DTSTART:20260717T130000Z
DTEND:20260717T140000Z
LOCATION:All Pool
SUMMARY:Camp Swim - All Pool
DESCRIPTION:Camp Swim - All Pool\nhttps://uat.wilmettepark.org/events/camp-
 swim-5/var/ri-28.l-L1
URL:https://uat.wilmettepark.org/events/camp-swim-5/var/ri-28.l-L1
END:VEVENT
END:VCALENDAR