
BEGIN:VCALENDAR
VERSION:2.0
PRODID:-//eventon.com NONSGML v1.0//EN
CALSCALE:GREGORIAN
METHOD:PUBLISH
BEGIN:VEVENT
UID:69e939476188a
DTSTAMP:20260422T211031Z
DTSTART:20260724T130000Z
DTEND:20260724T140000Z
LOCATION:All Pool
SUMMARY:Camp Swim - All Pool
DESCRIPTION:Camp Swim - All Pool\nhttps://uat.wilmettepark.org/events/camp-
 swim-5/var/ri-33.l-L1
URL:https://uat.wilmettepark.org/events/camp-swim-5/var/ri-33.l-L1
END:VEVENT
END:VCALENDAR