
BEGIN:VCALENDAR
VERSION:2.0
PRODID:-//eventon.com NONSGML v1.0//EN
CALSCALE:GREGORIAN
METHOD:PUBLISH
BEGIN:VEVENT
UID:69e98e5bcf495
DTSTAMP:20260423T031331Z
DTSTART:20260730T130000Z
DTEND:20260730T140000Z
LOCATION:All Pool
SUMMARY:Camp Swim - All Pool
DESCRIPTION:Camp Swim - All Pool\nhttps://uat.wilmettepark.org/events/camp-
 swim-5/var/ri-37.l-L1
URL:https://uat.wilmettepark.org/events/camp-swim-5/var/ri-37.l-L1
END:VEVENT
END:VCALENDAR