
BEGIN:VCALENDAR
VERSION:2.0
PRODID:-//eventon.com NONSGML v1.0//EN
CALSCALE:GREGORIAN
METHOD:PUBLISH
BEGIN:VEVENT
UID:69ea355b7864a
DTSTAMP:20260423T150603Z
DTSTART:20260630T140000Z
DTEND:20260630T203000Z
LOCATION:All Pools
SUMMARY:Public Swim - All Pool
DESCRIPTION:Public Swim - All Pool\nhttps://uat.wilmettepark.org/events/pub
 lic-swim-5/var/ri-15.l-L1
URL:https://uat.wilmettepark.org/events/public-swim-5/var/ri-15.l-L1
END:VEVENT
END:VCALENDAR