
BEGIN:VCALENDAR
VERSION:2.0
PRODID:-//eventon.com NONSGML v1.0//EN
CALSCALE:GREGORIAN
METHOD:PUBLISH
BEGIN:VEVENT
UID:69e63a6438ec8
DTSTAMP:20260420T143828Z
DTSTART:20260626T051500Z
DTEND:20260626T094500Z
LOCATION:Main Pool Lanes 1-4
SUMMARY:New Trier
DESCRIPTION:New Trier\nhttps://uat.wilmettepark.org/events/new-trier-3/var/
 ri-2.l-L1
URL:https://uat.wilmettepark.org/events/new-trier-3/var/ri-2.l-L1
END:VEVENT
END:VCALENDAR