
BEGIN:VCALENDAR
VERSION:2.0
PRODID:-//eventon.com NONSGML v1.0//EN
CALSCALE:GREGORIAN
METHOD:PUBLISH
BEGIN:VEVENT
UID:69e8a0efbec8d
DTSTAMP:20260422T102031Z
DTSTART:20260724T051500Z
DTEND:20260724T094500Z
LOCATION:Main Pool Lanes 1-4
SUMMARY:New Trier
DESCRIPTION:New Trier\nhttps://uat.wilmettepark.org/events/new-trier-3/var/
 ri-6.l-L1
URL:https://uat.wilmettepark.org/events/new-trier-3/var/ri-6.l-L1
END:VEVENT
END:VCALENDAR