
BEGIN:VCALENDAR
VERSION:2.0
PRODID:-//eventon.com NONSGML v1.0//EN
CALSCALE:GREGORIAN
METHOD:PUBLISH
BEGIN:VEVENT
UID:69e8a0f0bdc35
DTSTAMP:20260422T102032Z
DTSTART:20260724T070000Z
DTEND:20260724T124500Z
LOCATION:Main Pool Lanes 5-8
SUMMARY:Lap Swim
DESCRIPTION:Lap Swim\nhttps://uat.wilmettepark.org/events/lap-swim-2/var/ri
 -6.l-L1
URL:https://uat.wilmettepark.org/events/lap-swim-2/var/ri-6.l-L1
END:VEVENT
END:VCALENDAR