
BEGIN:VCALENDAR
VERSION:2.0
PRODID:-//eventon.com NONSGML v1.0//EN
CALSCALE:GREGORIAN
METHOD:PUBLISH
BEGIN:VEVENT
UID:69e88a5ef0d2b
DTSTAMP:20260422T084414Z
DTSTART:20260703T100000Z
DTEND:20260703T124500Z
LOCATION:Main Pool Lanes 1-4
SUMMARY:Lap Swim
DESCRIPTION:Lap Swim\nhttps://uat.wilmettepark.org/events/lap-swim-3/var/ri
 -3.l-L1
URL:https://uat.wilmettepark.org/events/lap-swim-3/var/ri-3.l-L1
END:VEVENT
END:VCALENDAR