
BEGIN:VCALENDAR
VERSION:2.0
PRODID:-//eventon.com NONSGML v1.0//EN
CALSCALE:GREGORIAN
METHOD:PUBLISH
BEGIN:VEVENT
UID:69e5f7fa9f027
DTSTAMP:20260420T095506Z
DTSTART:20260731T100000Z
DTEND:20260731T124500Z
LOCATION:Main Pool Lanes 1-4
SUMMARY:Lap Swim
DESCRIPTION:Lap Swim\nhttps://uat.wilmettepark.org/events/lap-swim-3/var/ri
 -7.l-L1
URL:https://uat.wilmettepark.org/events/lap-swim-3/var/ri-7.l-L1
END:VEVENT
END:VCALENDAR