
BEGIN:VCALENDAR
VERSION:2.0
PRODID:-//eventon.com NONSGML v1.0//EN
CALSCALE:GREGORIAN
METHOD:PUBLISH
BEGIN:VEVENT
UID:69e622862da2c
DTSTAMP:20260420T125638Z
DTSTART:20260717T083000Z
DTEND:20260717T124500Z
LOCATION:Activity Pool
SUMMARY:Lessons
DESCRIPTION:Lessons\nhttps://uat.wilmettepark.org/events/lessons-4/var/ri-5
 .l-L1
URL:https://uat.wilmettepark.org/events/lessons-4/var/ri-5.l-L1
END:VEVENT
END:VCALENDAR