
BEGIN:VCALENDAR
VERSION:2.0
PRODID:-//eventon.com NONSGML v1.0//EN
CALSCALE:GREGORIAN
METHOD:PUBLISH
BEGIN:VEVENT
UID:69e635e70f692
DTSTAMP:20260420T141919Z
DTSTART:20260731T083000Z
DTEND:20260731T124500Z
LOCATION:Activity Pool
SUMMARY:Lessons
DESCRIPTION:Lessons\nhttps://uat.wilmettepark.org/events/lessons-4/var/ri-7
 .l-L1
URL:https://uat.wilmettepark.org/events/lessons-4/var/ri-7.l-L1
END:VEVENT
END:VCALENDAR