
BEGIN:VCALENDAR
VERSION:2.0
PRODID:-//eventon.com NONSGML v1.0//EN
CALSCALE:GREGORIAN
METHOD:PUBLISH
BEGIN:VEVENT
UID:69e62356d3536
DTSTAMP:20260420T130006Z
DTSTART:20260802T090000Z
DTEND:20260802T120000Z
LOCATION:Tot Swim
SUMMARY:Wading Pool
DESCRIPTION:Wading Pool\nhttps://uat.wilmettepark.org/events/wading-pool-2/
 var/ri-15.l-L1
URL:https://uat.wilmettepark.org/events/wading-pool-2/var/ri-15.l-L1
END:VEVENT
END:VCALENDAR