
BEGIN:VCALENDAR
VERSION:2.0
PRODID:-//eventon.com NONSGML v1.0//EN
CALSCALE:GREGORIAN
METHOD:PUBLISH
BEGIN:VEVENT
UID:69e6229ada33a
DTSTAMP:20260420T125658Z
DTSTART:20260712T090000Z
DTEND:20260712T120000Z
LOCATION:Tot Swim
SUMMARY:Wading Pool
DESCRIPTION:Wading Pool\nhttps://uat.wilmettepark.org/events/wading-pool-2/
 var/ri-9.l-L1
URL:https://uat.wilmettepark.org/events/wading-pool-2/var/ri-9.l-L1
END:VEVENT
END:VCALENDAR