
BEGIN:VCALENDAR
VERSION:2.0
PRODID:-//eventon.com NONSGML v1.0//EN
CALSCALE:GREGORIAN
METHOD:PUBLISH
BEGIN:VEVENT
UID:69e5e6d734ef3
DTSTAMP:20260420T084159Z
DTSTART:20260612T070000Z
DTEND:20260612T094500Z
LOCATION:Main Pool Lanes 1-4
SUMMARY:New Trier
DESCRIPTION:New Trier\nhttps://uat.wilmettepark.org/events/new-trier-5/
URL:https://uat.wilmettepark.org/events/new-trier-5/
END:VEVENT
END:VCALENDAR