
BEGIN:VCALENDAR
VERSION:2.0
PRODID:-//eventon.com NONSGML v1.0//EN
CALSCALE:GREGORIAN
METHOD:PUBLISH
BEGIN:VEVENT
UID:69e5f8148b08b
DTSTAMP:20260420T095532Z
DTSTART:20260620T070000Z
DTEND:20260620T214500Z
LOCATION:Main Pool Lanes 1-4
SUMMARY:New Trier
DESCRIPTION:New Trier\nhttps://uat.wilmettepark.org/events/new-trier-5/var/
 ri-2.l-L1
URL:https://uat.wilmettepark.org/events/new-trier-5/var/ri-2.l-L1
END:VEVENT
END:VCALENDAR