
BEGIN:VCALENDAR
VERSION:2.0
PRODID:-//eventon.com NONSGML v1.0//EN
CALSCALE:GREGORIAN
METHOD:PUBLISH
BEGIN:VEVENT
UID:69e5fb18d4e56
DTSTAMP:20260420T100824Z
DTSTART:20260725T070000Z
DTEND:20260725T214500Z
LOCATION:Main Pool Lanes 1-4
SUMMARY:New Trier
DESCRIPTION:New Trier\nhttps://uat.wilmettepark.org/events/new-trier-5/var/
 ri-7.l-L1
URL:https://uat.wilmettepark.org/events/new-trier-5/var/ri-7.l-L1
END:VEVENT
END:VCALENDAR