
BEGIN:VCALENDAR
VERSION:2.0
PRODID:-//eventon.com NONSGML v1.0//EN
CALSCALE:GREGORIAN
METHOD:PUBLISH
BEGIN:VEVENT
UID:69e62274c7971
DTSTAMP:20260420T125620Z
DTSTART:20260628T100000Z
DTEND:20260628T114500Z
LOCATION:Main Pool Lanes 1-4
SUMMARY:Lessons
DESCRIPTION:Lessons\nhttps://uat.wilmettepark.org/events/lessons-5/var/ri-5
 .l-L1
URL:https://uat.wilmettepark.org/events/lessons-5/var/ri-5.l-L1
END:VEVENT
END:VCALENDAR