
BEGIN:VCALENDAR
VERSION:2.0
PRODID:-//eventon.com NONSGML v1.0//EN
CALSCALE:GREGORIAN
METHOD:PUBLISH
BEGIN:VEVENT
UID:69e5fd71ab36b
DTSTAMP:20260420T101825Z
DTSTART:20260711T070000Z
DTEND:20260711T120000Z
LOCATION:Main Pool Lanes 5-8
SUMMARY:Lap Swim
DESCRIPTION:Lap Swim\nhttps://uat.wilmettepark.org/events/lap-swim-4/var/ri
 -4.l-L1
URL:https://uat.wilmettepark.org/events/lap-swim-4/var/ri-4.l-L1
END:VEVENT
END:VCALENDAR