
BEGIN:VCALENDAR
VERSION:2.0
PRODID:-//eventon.com NONSGML v1.0//EN
CALSCALE:GREGORIAN
METHOD:PUBLISH
BEGIN:VEVENT
UID:69e5e6b840123
DTSTAMP:20260420T084128Z
DTSTART:20260801T070000Z
DTEND:20260801T120000Z
LOCATION:Main Pool Lanes 5-8
SUMMARY:Lap Swim
DESCRIPTION:Lap Swim\nhttps://uat.wilmettepark.org/events/lap-swim-4/var/ri
 -7.l-L1
URL:https://uat.wilmettepark.org/events/lap-swim-4/var/ri-7.l-L1
END:VEVENT
END:VCALENDAR