
BEGIN:VCALENDAR
VERSION:2.0
PRODID:-//eventon.com NONSGML v1.0//EN
CALSCALE:GREGORIAN
METHOD:PUBLISH
BEGIN:VEVENT
UID:69e746544c065
DTSTAMP:20260421T094140Z
DTSTART:20260620T100000Z
DTEND:20260620T114500Z
LOCATION:Activity Pool
SUMMARY:Lessons
DESCRIPTION:Lessons\nhttps://uat.wilmettepark.org/events/lessons-6/var/ri-1
 .l-L1
URL:https://uat.wilmettepark.org/events/lessons-6/var/ri-1.l-L1
END:VEVENT
END:VCALENDAR