
BEGIN:VCALENDAR
VERSION:2.0
PRODID:-//eventon.com NONSGML v1.0//EN
CALSCALE:GREGORIAN
METHOD:PUBLISH
BEGIN:VEVENT
UID:69e5f816706fc
DTSTAMP:20260420T095534Z
DTSTART:20260704T100000Z
DTEND:20260704T114500Z
LOCATION:Activity Pool
SUMMARY:Lessons
DESCRIPTION:Lessons\nhttps://uat.wilmettepark.org/events/lessons-6/var/ri-3
 .l-L1
URL:https://uat.wilmettepark.org/events/lessons-6/var/ri-3.l-L1
END:VEVENT
END:VCALENDAR