
BEGIN:VCALENDAR
VERSION:2.0
PRODID:-//eventon.com NONSGML v1.0//EN
CALSCALE:GREGORIAN
METHOD:PUBLISH
BEGIN:VEVENT
UID:69e60e0f97b19
DTSTAMP:20260420T112919Z
DTSTART:20260718T100000Z
DTEND:20260718T114500Z
LOCATION:Activity Pool
SUMMARY:Lessons
DESCRIPTION:Lessons\nhttps://uat.wilmettepark.org/events/lessons-6/var/ri-5
 .l-L1
URL:https://uat.wilmettepark.org/events/lessons-6/var/ri-5.l-L1
END:VEVENT
END:VCALENDAR