
BEGIN:VCALENDAR
VERSION:2.0
PRODID:-//eventon.com NONSGML v1.0//EN
CALSCALE:GREGORIAN
METHOD:PUBLISH
BEGIN:VEVENT
UID:69e75101e51b5
DTSTAMP:20260421T102713Z
DTSTART:20260726T093000Z
DTEND:20260726T114500Z
LOCATION:Diving Well
SUMMARY:Diving Lessons
DESCRIPTION:Diving Lessons\nhttps://uat.wilmettepark.org/events/diving-less
 ons-3/var/ri-13.l-L1
URL:https://uat.wilmettepark.org/events/diving-lessons-3/var/ri-13.l-L1
END:VEVENT
END:VCALENDAR