
BEGIN:VCALENDAR
VERSION:2.0
PRODID:-//eventon.com NONSGML v1.0//EN
CALSCALE:GREGORIAN
METHOD:PUBLISH
BEGIN:VEVENT
UID:69e5f86e983f0
DTSTAMP:20260420T095702Z
DTSTART:20260613T120000Z
DTEND:20260613T203000Z
LOCATION:Main Pool Lanes 5-8
SUMMARY:Public Swim
DESCRIPTION:Public Swim\nhttps://uat.wilmettepark.org/events/public-swim-9/
URL:https://uat.wilmettepark.org/events/public-swim-9/
END:VEVENT
END:VCALENDAR