
BEGIN:VCALENDAR
VERSION:2.0
PRODID:-//eventon.com NONSGML v1.0//EN
CALSCALE:GREGORIAN
METHOD:PUBLISH
BEGIN:VEVENT
UID:69e5e6e47016d
DTSTAMP:20260420T084212Z
DTSTART:20260726T120000Z
DTEND:20260726T203000Z
LOCATION:Main Pool Lanes 5-8
SUMMARY:Public Swim
DESCRIPTION:Public Swim\nhttps://uat.wilmettepark.org/events/public-swim-9/
 var/ri-13.l-L1
URL:https://uat.wilmettepark.org/events/public-swim-9/var/ri-13.l-L1
END:VEVENT
END:VCALENDAR