
BEGIN:VCALENDAR
VERSION:2.0
PRODID:-//eventon.com NONSGML v1.0//EN
CALSCALE:GREGORIAN
METHOD:PUBLISH
BEGIN:VEVENT
UID:69e6c03518351
DTSTAMP:20260421T000925Z
DTSTART:20260726T120000Z
DTEND:20260726T203000Z
LOCATION:All Pool
SUMMARY:Public Swim - All Pool
DESCRIPTION:Public Swim - All Pool\nhttps://uat.wilmettepark.org/events/pub
 lic-swim-10/var/ri-13.l-L1
URL:https://uat.wilmettepark.org/events/public-swim-10/var/ri-13.l-L1
END:VEVENT
END:VCALENDAR