
BEGIN:VCALENDAR
VERSION:2.0
PRODID:-//eventon.com NONSGML v1.0//EN
CALSCALE:GREGORIAN
METHOD:PUBLISH
BEGIN:VEVENT
UID:69e63e17af4f8
DTSTAMP:20260420T145415Z
DTSTART:20260705T120000Z
DTEND:20260705T203000Z
LOCATION:All Pool
SUMMARY:Public Swim - All Pool
DESCRIPTION:Public Swim - All Pool\nhttps://uat.wilmettepark.org/events/pub
 lic-swim-10/var/ri-7.l-L1
URL:https://uat.wilmettepark.org/events/public-swim-10/var/ri-7.l-L1
END:VEVENT
END:VCALENDAR