
BEGIN:VCALENDAR
VERSION:2.0
PRODID:-//eventon.com NONSGML v1.0//EN
CALSCALE:GREGORIAN
METHOD:PUBLISH
BEGIN:VEVENT
UID:69e60dece85cb
DTSTAMP:20260420T112844Z
DTSTART:20260705T070000Z
DTEND:20260705T094500Z
LOCATION:Main Pool Lanes 1-4
SUMMARY:Lap Swim
DESCRIPTION:Lap Swim\nhttps://uat.wilmettepark.org/events/lap-swim-5/var/ri
 -4.l-L1
URL:https://uat.wilmettepark.org/events/lap-swim-5/var/ri-4.l-L1
END:VEVENT
END:VCALENDAR