
BEGIN:VCALENDAR
VERSION:2.0
PRODID:-//eventon.com NONSGML v1.0//EN
CALSCALE:GREGORIAN
METHOD:PUBLISH
BEGIN:VEVENT
UID:69e758dc4faeb
DTSTAMP:20260421T110044Z
DTSTART:20260802T073000Z
DTEND:20260802T083000Z
LOCATION:Diving Well
SUMMARY:Fluid Running
DESCRIPTION:Fluid Running\nhttps://uat.wilmettepark.org/events/fluid-runnin
 g-2/var/ri-7.l-L1
URL:https://uat.wilmettepark.org/events/fluid-running-2/var/ri-7.l-L1
END:VEVENT
END:VCALENDAR