
BEGIN:VCALENDAR
VERSION:2.0
PRODID:-//eventon.com NONSGML v1.0//EN
CALSCALE:GREGORIAN
METHOD:PUBLISH
BEGIN:VEVENT
UID:69e7465323f38
DTSTAMP:20260421T094139Z
DTSTART:20260809T070000Z
DTEND:20260809T114500Z
LOCATION:Main Pool Lanes 1-4
SUMMARY:Lap Swim
DESCRIPTION:Lap Swim\nhttps://uat.wilmettepark.org/events/lap-swim-7/var/ri
 -1.l-L1
URL:https://uat.wilmettepark.org/events/lap-swim-7/var/ri-1.l-L1
END:VEVENT
END:VCALENDAR