
BEGIN:VCALENDAR
VERSION:2.0
PRODID:-//eventon.com NONSGML v1.0//EN
CALSCALE:GREGORIAN
METHOD:PUBLISH
BEGIN:VEVENT
UID:69e5e6e3515d8
DTSTAMP:20260420T084211Z
DTSTART:20260804T070000Z
DTEND:20260804T114500Z
LOCATION:Main Pool Lanes 5-8
SUMMARY:Lap Swim
DESCRIPTION:Lap Swim\nhttps://uat.wilmettepark.org/events/lap-swim-8/
URL:https://uat.wilmettepark.org/events/lap-swim-8/
END:VEVENT
END:VCALENDAR