
BEGIN:VCALENDAR
VERSION:2.0
PRODID:-//eventon.com NONSGML v1.0//EN
CALSCALE:GREGORIAN
METHOD:PUBLISH
BEGIN:VEVENT
UID:69e5e38f8520c
DTSTAMP:20260420T082759Z
DTSTART:20260808T070000Z
DTEND:20260808T114500Z
LOCATION:Main Pool Lanes 5-8
SUMMARY:Lap Swim
DESCRIPTION:Lap Swim\nhttps://uat.wilmettepark.org/events/lap-swim-8/var/ri
 -2.l-L1
URL:https://uat.wilmettepark.org/events/lap-swim-8/var/ri-2.l-L1
END:VEVENT
END:VCALENDAR