
BEGIN:VCALENDAR
VERSION:2.0
PRODID:-//Wilmette Park District - ECPv6.15.18//NONSGML v1.0//EN
CALSCALE:GREGORIAN
METHOD:PUBLISH
X-WR-CALNAME:Wilmette Park District
X-ORIGINAL-URL:https://uat.wilmettepark.org
X-WR-CALDESC:Events for Wilmette Park District
REFRESH-INTERVAL;VALUE=DURATION:PT1H
X-Robots-Tag:noindex
X-PUBLISHED-TTL:PT1H
BEGIN:VTIMEZONE
TZID:America/Chicago
BEGIN:DAYLIGHT
TZOFFSETFROM:-0600
TZOFFSETTO:-0500
TZNAME:CDT
DTSTART:20240310T080000
END:DAYLIGHT
BEGIN:STANDARD
TZOFFSETFROM:-0500
TZOFFSETTO:-0600
TZNAME:CST
DTSTART:20241103T070000
END:STANDARD
BEGIN:DAYLIGHT
TZOFFSETFROM:-0600
TZOFFSETTO:-0500
TZNAME:CDT
DTSTART:20250309T080000
END:DAYLIGHT
BEGIN:STANDARD
TZOFFSETFROM:-0500
TZOFFSETTO:-0600
TZNAME:CST
DTSTART:20251102T070000
END:STANDARD
BEGIN:DAYLIGHT
TZOFFSETFROM:-0600
TZOFFSETTO:-0500
TZNAME:CDT
DTSTART:20260308T080000
END:DAYLIGHT
BEGIN:STANDARD
TZOFFSETFROM:-0500
TZOFFSETTO:-0600
TZNAME:CST
DTSTART:20261101T070000
END:STANDARD
BEGIN:DAYLIGHT
TZOFFSETFROM:-0600
TZOFFSETTO:-0500
TZNAME:CDT
DTSTART:20270314T080000
END:DAYLIGHT
BEGIN:STANDARD
TZOFFSETFROM:-0500
TZOFFSETTO:-0600
TZNAME:CST
DTSTART:20271107T070000
END:STANDARD
END:VTIMEZONE
BEGIN:VEVENT
DTSTART;VALUE=DATE:20251122
DTEND;VALUE=DATE:20251208
DTSTAMP:20260420T120721
CREATED:20240918T173806Z
LAST-MODIFIED:20250903T172820Z
UID:74632-1763769600-1765151999@uat.wilmettepark.org
SUMMARY:Santa's Mailbox
DESCRIPTION:Dear Santa…\nWrite a letter to Jolly Old St. Nick and drop it off at the magic mailbox located in Mallinckrodt Park Gazebo!\n\nDates: 11/22-12/7\nLocation: The Gazebo in Mallinckrodt Park\n1041A Ridge Rd.\n\nMail your letter to Santa at the magical North Pole Mailbox located in Mallinckrodt Park! Include a self-addressed\, stamped envelope so that Santa can write you back. Hurry hurry! All letters must be dropped off in the mailbox by December 7!\n\n  \n  Download PDF\n      \n          \n          \n           Save This Page as a PDF
URL:https://uat.wilmettepark.org/event-list/santas-mailbox/
LOCATION:Mallinckrodt Park\, 1041A Ridge Rd.\, Wilmette\, 60091\, United States
CATEGORIES:Events
ATTACH;FMTTYPE=image/jpeg:https://d11ixze0kvt635.cloudfront.net/wp-content/uploads/2024/09/03122752/SantasMailbox25-Fi.jpg
END:VEVENT
BEGIN:VEVENT
DTSTART;VALUE=DATE:20251201
DTEND;VALUE=DATE:20251202
DTSTAMP:20260420T120721
CREATED:20240918T174037Z
LAST-MODIFIED:20250903T142026Z
UID:74635-1764547200-1764633599@uat.wilmettepark.org
SUMMARY:Cyber Monday Sale
DESCRIPTION:Cyber Monday Sale\nOnly one day\, only online!\nTake advantage of the Cyber Monday Sale and save 10% on 2025 Season Beach & Pool Passes and purchase your Lakefront Parking Decals early! \nAll day: Monday\, 12/1 \n\nSale opens at 12:00 am on 12/1\nSale closes at 11:59 pm on 12/1\n\nPurchase links coming soon! \n  \n\nPLEASE NOTE:\n*Checkout must be completed and sale processed by 11:59 pm\n  \n  \n\n  \n  Download PDF\n      \n          \n          \n           Save This Page as a PDF
URL:https://uat.wilmettepark.org/event-list/cyber-monday-sale/
LOCATION:Online\, United States
CATEGORIES:Events
ATTACH;FMTTYPE=image/jpeg:https://d11ixze0kvt635.cloudfront.net/wp-content/uploads/2024/09/25104644/CM25-Fi.jpg
END:VEVENT
BEGIN:VEVENT
DTSTART;TZID=America/Chicago:20251205T190000
DTEND;TZID=America/Chicago:20251206T210000
DTSTAMP:20260420T120721
CREATED:20240918T181955Z
LAST-MODIFIED:20260326T085258Z
UID:74648-1764961200-1765054800@uat.wilmettepark.org
SUMMARY:Adult Gingerbread House Workshop
DESCRIPTION:Adult Gingerbread House Workshop\nElves’ Night Out\nAge 21 & up at the Lakeview Center \nR-$49 / NR-$61 \n\nFriday\, December 5 at 7 pm\nSaturday\, December 6 at 7 pm\nCLICK HERE to register!\n\nRegistration opens with LATE FALL programs—9/30 for residents\, 10/17 for non-residents.  \nBuild a real artisan gingerbread house with 100% certified organic French Gingerbread made with love and care by the Nuns at St. Roger Abbey. Construct your creation with our handmade frosting while enjoying your own BYOB selection\, espresso\, coffee\, hot chocolate\, hot cider or sample our exclusive 2025 Gingerbread Workshop Signature Mocktail. Embellish your house with candies\, cookies and other goodies. Light\, savory refreshments will be served to counter the sugar rush. Participants may each make their own house or work as a couple or group to engineer an epic creation! \nLooking for our Family Gingerbread Workshops? Click HERE to view our family workshops for ages 3 & up! \n  \n\n  \n  Download PDF\n      \n          \n          \n           Save This Page as a PDF
URL:https://uat.wilmettepark.org/event-list/adult-gingerbread-house-workshops/
LOCATION:Lakeview Center\, 800 Gillson Park Dr.\, Wilmette\, IL\, 60091\, United States
CATEGORIES:Art Program,Events
ATTACH;FMTTYPE=image/jpeg:https://d11ixze0kvt635.cloudfront.net/wp-content/uploads/2024/09/25153322/ENO25-FI.jpg
END:VEVENT
BEGIN:VEVENT
DTSTART;TZID=America/Chicago:20251211T190000
DTEND;TZID=America/Chicago:20260415T140000
DTSTAMP:20260420T120721
CREATED:20240918T195142Z
LAST-MODIFIED:20260326T091134Z
UID:74663-1765479600-1776261600@uat.wilmettepark.org
SUMMARY:The Nutcracker
DESCRIPTION:Wilmette Center for the Arts presents\nThe Nutcracker\n\nDecember 11 & 12: 7 pm\nDecember 13 & 14: Noon and 3 pm\n\nTICKETS: \n\n$13 reserved seating\n\nCelebrate the holiday season with the Wilmette Park District’s annual tradition! The Nutcracker production is a magical night of performing arts and storytelling. Our dance and theater departments collaborate every year to bring this special performance to life. Support the arts and enjoy a holiday show like no other! Get your tickets soon – limited seating available. All seats reserved. \n  \n  \n\n  \n  Download PDF\n      \n          \n          \n           Save This Page as a PDF
URL:https://uat.wilmettepark.org/event-list/the-nutcracker/
LOCATION:Community Recreation Center
CATEGORIES:Art Program,Events
ATTACH;FMTTYPE=image/jpeg:https://d11ixze0kvt635.cloudfront.net/wp-content/uploads/2024/09/28150012/NUT25-FI.jpg
END:VEVENT
END:VCALENDAR